BEGIN:VCALENDAR
VERSION:2.0
CALSCALE:GREGORIAN
PRODID:adamgibbons/ics
METHOD:PUBLISH
X-PUBLISHED-TTL:PT1H
BEGIN:VEVENT
UID:369@tricity.dance
SUMMARY:PUCK'N'BOOGIE 2026 - taneczny weekend nad Zatoką Pucką
DTSTAMP:20260420T163229Z
DTSTART:20260612T220000Z
DTEND:20260614T215500Z
DESCRIPTION:PUCK’N’BOOGIE 2026 – taneczny weekend nad Zatoką Pucką!\n\nWyob
	raź sobie ten klimat…\npulsujące Boogie Woogie i Swing w tle\nparkiet pełe
	n energii\, luzu i szerokich uśmiechów\nmorska bryza i nadmorski vibe\n\nB
	rzmi jak idealny taneczny weekend? Bo właśnie taki na Ciebie czeka!\n\nZap
	raszamy na intensywny\, ale mega przyjemny weekend\, który połączy rozwój\
	ntańca\, świetną zabawę i magiczny klimat morza\n\nCo Cię czeka?\n6 godzin
	 warsztatów (solo + w parach)\npoziom OPEN – dla wszystkich poziomów\nprac
	a nad: rytmem flow musicality i elementami stepowania\nwieczorna impreza t
	aneczna do późnej nocy\n\nProwadzący\nAgnieszka & Grzegorz Cherubińscy\n\n
	Utytułowane rodzeństwo z Warszawy\, należące do światowej czołówki Boogie 
	Woogie\ni tańców swingowych.\n\nMistrzowie Europy\nVice Mistrzowie Świata\
	nWielokrotni Mistrzowie Polski\nZwycięzcy rankingu World Masters\n\nNa ich
	 warsztatach nie tylko uczysz się figur — zaczynasz naprawdę czuć muzykę i
	\ntańczyć z większą swobodą i pewnością siebie\n\nDlaczego warto przyjecha
	ć?\nTo nie jest kolejny zwykły kurs.\nTo konkretna dawka wiedzy\, praktyki
	 i energii\, po której Twój taniec wskoczy na\nzupełnie inny poziom!\n\nDo
	 tego dostajesz:\npiękne zachody słońca nad Zatoką\nrelaksujący morski kli
	mat\nfantastyczną atmosferę i społeczność\n\nCENNIK – FULL PASS (6h warszt
	atów + impreza)\nEarly Bird: 340 zł (do 30 kwietnia 2026)\nRegular: 380 zł
	 (1–31 maja 2026)\nLast Call: 420 zł (od 1 czerwca 2026)\n\nOpcje pojedync
	ze (3h):\nSwing Solo → Early Bird 170 zł | Regular 200 zł | Last Call 230 
	zł\nBoogie Woogie w parach → Early Bird 170 zł | Regular 200 zł | Last Cal
	l 230 zł\n\nTermin i miejsce\n13–14 czerwca 2026\nPuck\n507-458-410\n\nPrz
	yjedź solo albo z partnerem/partnerką – miejsca znikają błyskawicznie!\n\n
	Zabierz znajomych i spędźcie weekend\, po którym Twój taniec już nigdy nie
	 będzie\ntaki sam\n\nChcesz wskoczyć na wyższy poziom w pięknym otoczeniu?
	\nTo jest właśnie ten event!\n\nZapisy\nhttps://urls.baila.com.pl/t860e [h
	ttps://urls.baila.com.pl/t860e]\n\nDo zobaczenia na puckim parkiecie!
URL:https://tricity.dance/event/pucknboogie-2026-taneczny-weekend-nad-zatok
	a-pucka
LOCATION:Szkoła Tańca Baila - ul. Wejhera 2\, 84-100 Puck\, Polska
STATUS:CONFIRMED
CATEGORIES:warsztaty,Boogie Woogie,Puck
X-ALT-DESC;FMTTYPE=text/html:<p>PUCK’N’BOOGIE 2026 – taneczny weekend nad Z
	atoką Pucką!</p><p>Wyobraź sobie ten klimat… <br> pulsujące Boogie Woogie 
	i Swing w tle<br> parkiet pełen energii, luzu i szerokich uśmiechów<br> mo
	rska bryza i nadmorski vibe</p><p>Brzmi jak idealny taneczny weekend? Bo w
	łaśnie taki na Ciebie czeka!</p><p>Zapraszamy na intensywny, ale mega przy
	jemny weekend, który połączy rozwój tańca, świetną zabawę i magiczny klima
	t morza</p><p>Co Cię czeka?<br> 6 godzin warsztatów (solo + w parach)<br> 
	poziom OPEN – dla wszystkich poziomów<br> praca nad: rytmem flow musicalit
	y i elementami stepowania <br> wieczorna impreza taneczna do późnej nocy</
	p><p>Prowadzący<br>Agnieszka &amp; Grzegorz Cherubińscy</p><p>Utytułowane 
	rodzeństwo z Warszawy, należące do światowej czołówki Boogie Woogie i tańc
	ów swingowych.</p><p>Mistrzowie Europy<br> Vice Mistrzowie Świata<br> Wiel
	okrotni Mistrzowie Polski<br> Zwycięzcy rankingu World Masters</p><p>Na ic
	h warsztatach nie tylko uczysz się figur — zaczynasz naprawdę czuć muzykę 
	i tańczyć z większą swobodą i pewnością siebie</p><p>Dlaczego warto przyje
	chać?<br>To nie jest kolejny zwykły kurs.<br>To konkretna dawka wiedzy, pr
	aktyki i energii, po której Twój taniec wskoczy na zupełnie inny poziom!</
	p><p>Do tego dostajesz:<br> piękne zachody słońca nad Zatoką<br> relaksują
	cy morski klimat<br> fantastyczną atmosferę i społeczność</p><p>CENNIK – F
	ULL PASS (6h warsztatów + impreza)<br> Early Bird: 340 zł (do 30 kwietnia 
	2026)<br> Regular: 380 zł (1–31 maja 2026)<br> Last Call: 420 zł (od 1 cze
	rwca 2026)</p><p>Opcje pojedyncze (3h):<br> Swing Solo → Early Bird 170 zł
	 | Regular 200 zł | Last Call 230 zł<br> Boogie Woogie w parach → Early Bi
	rd 170 zł | Regular 200 zł | Last Call 230 zł</p><p>Termin i miejsce<br> 1
	3–14 czerwca 2026<br> Puck<br> 507-458-410</p><p>Przyjedź solo albo z part
	nerem/partnerką – miejsca znikają błyskawicznie!</p><p>Zabierz znajomych i
	 spędźcie weekend, po którym Twój taniec już nigdy nie będzie taki sam</p>
	<p>Chcesz wskoczyć na wyższy poziom w pięknym otoczeniu?<br>To jest właśni
	e ten event!</p><p>Zapisy <br><a target="_blank" href="https://urls.baila.
	com.pl/t860e"><strong>https://urls.baila.com.pl/t860e</strong></a></p><p>D
	o zobaczenia na puckim parkiecie!</p>
END:VEVENT
END:VCALENDAR
